BEGIN:VCALENDAR
VERSION:2.0
CALSCALE:GREGORIAN
PRODID:adamgibbons/ics
METHOD:PUBLISH
X-PUBLISHED-TTL:PT1H
BEGIN:VEVENT
UID:1087@caosbi.eu
SUMMARY:Natalina e gli altri
DTSTAMP:20260421T005452Z
DTSTART:20260424T160000Z
DTEND:20260428T215900Z
DESCRIPTION:Collettiva di arte contemporanea. Inaugurazione poco prima dell
	a partenza della\ntradizionale Fiaccolata dalla Villa\, sarà aperta al pub
	blico fino al 28 aprile.\nLa mostra Natalina e gli altri\, a cura di Rober
	ta Toscano e Marco Rabino\, unisce\nalla ricerca artistica un profondo val
	ore civile. Il progetto trae origine dalla\nvicenda di Natalina Monteu Sau
	lat\, giovane di Pont Canavese deportata e\ninternata nel campo di concent
	ramento di Ravensbrück durante l’occupazione\nnazifascista. Verrà ricordat
	a anche la figura di Ondina Belussi\, di San Paolo\nCervo\, anch’essa depo
	rtata nello stesso campo\, da dove non fece ritorno.\n\nOrario\n\n24 april
	e dalle ore 18 fino alla partenza della fiaccolata\n25 aprile 15-18.30\n26
	 aprile 10-12\, 15-18.30\n27\, 28 aprile 17.30-19\ndomenica 26 aprile ore 
	17 presentazione del libro Natalina-Una storia breve -\nincontro con l’aut
	ore Marino Tarizzo e Anna Gasparini che canterà le canzoni dei\ndeportati
URL:https://caosbi.eu/event/natalina-e-gli-altri
LOCATION:Biella - Villa Schneider - piazza Lamarmora\, 6 - Biella
STATUS:CONFIRMED
CATEGORIES:Eventi
X-ALT-DESC;FMTTYPE=text/html:<p>Collettiva di arte contemporanea. Inauguraz
	ione poco prima della partenza della tradizionale Fiaccolata dalla Villa, 
	sarà aperta al pubblico fino al 28 aprile. La mostra Natalina e gli altri,
	 a cura di Roberta Toscano e Marco Rabino, unisce alla ricerca artistica u
	n profondo valore civile. Il progetto trae origine dalla vicenda di Natali
	na Monteu Saulat, giovane di Pont Canavese deportata e internata nel campo
	 di concentramento di Ravensbrück durante l’occupazione nazifascista. Verr
	à ricordata anche la figura di Ondina Belussi, di San Paolo Cervo, anch’es
	sa deportata nello stesso campo, da dove non fece ritorno.</p><p>Orario</p
	><p>24 aprile dalle ore 18 fino alla partenza della fiaccolata<br>25 april
	e 15-18.30<br>26 aprile 10-12, 15-18.30<br>27, 28 aprile 17.30-19<br>domen
	ica 26 aprile ore 17 presentazione del libro Natalina-Una storia breve - i
	ncontro con l’autore Marino Tarizzo e Anna Gasparini che canterà le canzon
	i dei deportati</p>
BEGIN:VALARM
ACTION:DISPLAY
DESCRIPTION:Natalina e gli altri
TRIGGER:-PT1H
END:VALARM
END:VEVENT
END:VCALENDAR
